BEGIN:VCALENDAR
VERSION:2.0
PRODID:-//INCAS RWTH Aachen//NONSGML kigkonsult.se iCalcreator 2.30.10//
CALSCALE:GREGORIAN
METHOD:PUBLISH
UID:d6799530-9099-4686-8a83-bc4f8cea194a
X-WR-CALNAME:iCagenda
X-WR-CALDESC:Event Management Extension for Joomla!
X-WR-RELCALID:3E26604A-50F4-4449-8B3E-E4F4932D05B5
X-WR-TIMEZONE:Europe/Berlin
BEGIN:VTIMEZONE
TZID:Europe/Berlin
BEGIN:STANDARD
TZNAME:CET
DTSTART:20231029T030000
TZOFFSETFROM:+0200
TZOFFSETTO:+0100
RDATE:20241027T030000
END:STANDARD
BEGIN:DAYLIGHT
TZNAME:CEST
DTSTART:20230326T020000
TZOFFSETFROM:+0100
TZOFFSETTO:+0200
RDATE:20240331T020000
RDATE:20250330T020000
END:DAYLIGHT
END:VTIMEZONE
BEGIN:VEVENT
UID:d61b10bc-7055-418a-a9f3-778036bb228b
DTSTAMP:20260426T005701Z
CATEGORIES:International Breakfast
CLASS:PUBLIC
DESCRIPTION;ALTREP="CID:<FFFF__=0ABBE548DFE235B58f9e8a93d@coffeebean.com>":
 On this event\, we will offer you a typical German breakfast\, such as Mil
 chreis\, bread\, pretzels\, boiled eggs\, and much more.\nMake sure to com
 e by at 11:00AM and experience the German breakfast culture.\nDue to a lim
 ited amount of food\, we can only offer a limited number of spots for the 
 breakfast. You can secure your ticket next Tuesday at our Vietnamese count
 ry evening. Just ask the people at the bar or talk to someone wearing an I
 NCAS shirt.\nWe are excited to see you there.
DTSTART:20231209T100000Z
DTEND:20231209T120000Z
GEO:+50.777943;+6.082001
LOCATION:Humbold Haus
ORGANIZER;CN=:breakfast@incas.rwth-aachen.de
SEQUENCE:1
SUMMARY:German Breakfast
TRANSP:OPAQUE
URL:https://www.incas.rwth-aachen.de/site/en/events/german-breakfast
END:VEVENT
END:VCALENDAR
