BEGIN:VCALENDAR
VERSION:2.0
PRODID:-//INCAS RWTH Aachen//NONSGML kigkonsult.se iCalcreator 2.30.10//
CALSCALE:GREGORIAN
METHOD:PUBLISH
UID:dfd005a5-69da-4ddc-9779-5d1d6acdca57
X-WR-CALNAME:iCagenda
X-WR-CALDESC:Event Management Extension for Joomla!
X-WR-RELCALID:3E26604A-50F4-4449-8B3E-E4F4932D05B5
X-WR-TIMEZONE:Europe/Berlin
BEGIN:VTIMEZONE
TZID:Europe/Berlin
BEGIN:STANDARD
TZNAME:CET
DTSTART:20231029T030000
TZOFFSETFROM:+0200
TZOFFSETTO:+0100
RDATE:20241027T030000
RDATE:20251026T030000
END:STANDARD
BEGIN:DAYLIGHT
TZNAME:CEST
DTSTART:20240331T020000
TZOFFSETFROM:+0100
TZOFFSETTO:+0200
RDATE:20250330T020000
END:DAYLIGHT
END:VTIMEZONE
BEGIN:VEVENT
UID:40049f35-c103-44f9-8600-e7eb52a2bdf1
DTSTAMP:20260425T012633Z
CATEGORIES:International Tuesday
CLASS:PUBLIC
DESCRIPTION;ALTREP="CID:<FFFF__=0ABBE548DFE235B58f9e8a93d@coffeebean.com>":
 Plan for the evening:\nWorkshop: 8.00 - 9.00 pmFree Dancing: 9.00 - 10.30 
 pm\nForró: Dance\, Discover\, Embrace Brazilian Culture''Get ready to groo
 ve at our Forró Exploration Event! We've got a beginner-friendly workshop\
 , lively dance demos\, and cool insights into the roots of Forró. It's a c
 asual\, fun dive into Brazilian dance and culture. Join us for a laid-back
  night of moves and good vibes!\nNo need to registerTeachers: Lana &amp\; 
 Jonas
DTSTART:20240625T180000Z
DTEND:20240625T183900Z
GEO:+50.777943;+6.082001
LOCATION:Humbold Haus
ORGANIZER:
SEQUENCE:1
SUMMARY:Forró Workshop
TRANSP:OPAQUE
URL:https://www.incas.rwth-aachen.de/site/en/events/forro-workshop
END:VEVENT
END:VCALENDAR
