BEGIN:VCALENDAR
VERSION:2.0
PRODID:-//INCAS RWTH Aachen//NONSGML kigkonsult.se iCalcreator 2.30.10//
CALSCALE:GREGORIAN
METHOD:PUBLISH
UID:c8daa6cb-df10-4059-8dbb-b9aedac487a9
X-WR-CALNAME:iCagenda
X-WR-CALDESC:Event Management Extension for Joomla!
X-WR-RELCALID:3E26604A-50F4-4449-8B3E-E4F4932D05B5
X-WR-TIMEZONE:Europe/Berlin
BEGIN:VTIMEZONE
TZID:Europe/Berlin
BEGIN:STANDARD
TZNAME:CET
DTSTART:20241027T030000
TZOFFSETFROM:+0200
TZOFFSETTO:+0100
RDATE:20251026T030000
END:STANDARD
BEGIN:DAYLIGHT
TZNAME:CEST
DTSTART:20240331T020000
TZOFFSETFROM:+0100
TZOFFSETTO:+0200
RDATE:20250330T020000
RDATE:20260329T020000
END:DAYLIGHT
END:VTIMEZONE
BEGIN:VEVENT
UID:049017b7-5dda-4fd4-ab0b-48c6dad5321f
DTSTAMP:20260425T020702Z
CATEGORIES:International Tuesday
CLASS:PUBLIC
DESCRIPTION:
DTSTART:20250318T190000Z
DTEND:20250318T225900Z
GEO:+50.777943;+6.082002
LOCATION:
ORGANIZER:
SEQUENCE:1
SUMMARY:Debate
TRANSP:OPAQUE
URL:https://www.incas.rwth-aachen.de/site/en/events/debate
END:VEVENT
END:VCALENDAR
